BEGIN:VCALENDAR
VERSION:2.0
PRODID:-//Chale Parish Council//Meeting Calendar//EN
CALSCALE:GREGORIAN
METHOD:PUBLISH
BEGIN:VEVENT
UID:70686-20251103@chaleparishcouncil.gov.uk
DTSTAMP:20260421T084219Z
DTSTART;VALUE=DATE:20251103
DTEND;VALUE=DATE:20251104
SUMMARY:FINANCE MEETING &#8211\\; 3RD NOV 25
DESCRIPTION:Full Council Meeting\nView details: https://chaleparishcouncil.gov.uk/meetings/meeting-name-here/
URL:https://chaleparishcouncil.gov.uk/meetings/meeting-name-here/
END:VEVENT
END:VCALENDAR
