BEGIN:VCALENDAR
VERSION:2.0
PRODID:-//Chale Parish Council//Meeting Calendar//EN
CALSCALE:GREGORIAN
METHOD:PUBLISH
BEGIN:VEVENT
UID:70736-20260309@chaleparishcouncil.gov.uk
DTSTAMP:20260423T090110Z
DTSTART;VALUE=DATE:20260309
DTEND;VALUE=DATE:20260310
SUMMARY:PARISH COUNCIL MEETING &#8211\\; 9th March 2026 (postponed until 16th March)
DESCRIPTION:Full Council Meeting\nView details: https://chaleparishcouncil.gov.uk/meetings/parish-council-meeting-monday-9th-march-2026/
URL:https://chaleparishcouncil.gov.uk/meetings/parish-council-meeting-monday-9th-march-2026/
END:VEVENT
END:VCALENDAR
