BEGIN:VCALENDAR
VERSION:2.0
PRODID:-//Chale Parish Council//Meeting Calendar//EN
CALSCALE:GREGORIAN
METHOD:PUBLISH
BEGIN:VEVENT
UID:70740-20260311@chaleparishcouncil.gov.uk
DTSTAMP:20260421T083621Z
DTSTART;VALUE=DATE:20260311
DTEND;VALUE=DATE:20260312
SUMMARY:PUBLIC MEETING &#8211\\; Wed 11th March
DESCRIPTION:Full Council Meeting\nView details: https://chaleparishcouncil.gov.uk/meetings/public-meeting-wed-11th-march/
URL:https://chaleparishcouncil.gov.uk/meetings/public-meeting-wed-11th-march/
END:VEVENT
END:VCALENDAR
